BEGIN:VCALENDAR
VERSION:2.0
PRODID:-//Feel SO&#039; light - ECPv5.4.0.1//NONSGML v1.0//EN
CALSCALE:GREGORIAN
METHOD:PUBLISH
X-WR-CALNAME:Feel SO&#039; light
X-ORIGINAL-URL:https://www.feel-so-light.com
X-WR-CALDESC:évènements pour Feel SO&#039; light
BEGIN:VTIMEZONE
TZID:Europe/Paris
BEGIN:DAYLIGHT
TZOFFSETFROM:+0100
TZOFFSETTO:+0200
TZNAME:CEST
DTSTART:20250330T010000
END:DAYLIGHT
BEGIN:STANDARD
TZOFFSETFROM:+0200
TZOFFSETTO:+0100
TZNAME:CET
DTSTART:20251026T010000
END:STANDARD
END:VTIMEZONE
BEGIN:VEVENT
DTSTART;TZID=Europe/Paris:20250827T150000
DTEND;TZID=Europe/Paris:20250827T180000
DTSTAMP:20260422T054535
CREATED:20250623T192130Z
LAST-MODIFIED:20250623T192130Z
UID:9606-1756306800-1756317600@www.feel-so-light.com
SUMMARY:ATELIER Initiation Crusine Saint-François GUADELOUPE
DESCRIPTION:Au cours de cette atelier vous seront transmises :\n– Les 4 lois de vie à respecter pour être en pleine santé \n– DES techniques pour démultiplier la présence d’enzymes (protéines facilitant la digestion donc l’assimilation du bol alimentaire) dans votre alimentation \n– des recettes surprenantes et même bluffantes \n  \nVous découvrez que le cru est plein de surprises culinaires attrayantes  !\n  \nManger le plus « vivant » possible est la stratégie la plus efficace pour préserver sa santé\, sa vitalité\, et même la solution la plus intelligente pour perdre du poids durablement  Venez nous rejoindre sur cet atelier pour vous initier aux fondamentaux de la « crusine »\, 100 % végétal et zéro cuisson pour un apport optimal de nutriments\, d’enzymes\, d’acides aminés\, de « carburant »\, d’énergie\, de santé. \n  \nEt nous préparerons ensemble des repas 100% végétal et surtout sans cuisson garantissant un apport nutritif optimal notamment en protéines\, en enzymes\, en nutriments. Je vous transmets avec joie ce qu’Irène Grosjean m’a transmis avec passion. J’ai beaucoup de gratitude d’avoir croisé son chemin et d’avoir bénéficié de ses enseignements et de son expérience de Naturopathe de plus de 60 ans. Cette femme était juste incroyable et pleine de vitalité \n  \nTarif 50€ \nTarif moins de 30 ans 30€ \n  \nPré-inscrivez-vous rapidement en envoyant un SMS au 0690862577 Places limité ! \n  \nPour en savoir plus\, cliquez ICI  \n  \nSophie Monneret\, coach de Vie\, médecin\, fondatrice de Feel SO’light  contact@feel-so-light.comwww.feel-so-light.com 06 90 86 25 77
URL:https://www.feel-so-light.com/event/atelier-initiation-crusine-saint-francois-guadeloupe/
LOCATION:GUADELOUPE\, Gosier\, Guadeloupe
CATEGORIES:Ateliers
END:VEVENT
END:VCALENDAR